BEGIN:VCALENDAR
VERSION:2.0
PRODID:-//wp-events-plugin.com//7.2.3.1//EN
TZID:Europe/Copenhagen
X-WR-TIMEZONE:Europe/Copenhagen
BEGIN:VEVENT
UID:261@inthrface.com
DTSTART;TZID=Europe/Copenhagen;VALUE=DATE:20240903
DTEND;TZID=Europe/Copenhagen;VALUE=DATE:20240906
DTSTAMP:20240301T100745Z
URL:https://inthrface.com/events/enhanced-facilitator-training-in-the-lego
 -serious-play-method-billund-5/
SUMMARY:Enhanced Facilitator Training in the LEGO® SERIOUS PLAY® method\,
  Billund
DESCRIPTION:\nThis 3-days training is for participants who have completed o
 ur Online Micro Certification – and want to obtain the Enhanced Certific
 ation in the LEGO® SERIOUS PLAY® (LSP) method.\nWhat’s included?:\n\n 
 	High-quality and hands-on training in LSP.\n 	An extensive manual and ex
 perience in using LSP.\n 	Three days all-inclusive stay and training at a
  LEGOLAND® Resort.\n 	Online “after training” support for preparing y
 our first LSP workshop.\n 	Access to our worldwide online facilitator netw
 ork.\n 	A tour in the LEGOLAND® theme park.\n\n \nAfter your training in
  the LEGO® SERIOUS PLAY® methodology you can:\n\n 	Develop\, change an
 d strengthen your organization and the teamwork within your company.\n 	Op
 timize processes and performances within your organization or company.\n 	
 Develop and implement dynamic strategies in your organization or company.\
 n 	Engage in and facilitate personal development processes including coach
 ing\, mentoring\, etc.\n 	And much more.\n\n\nTarget group:\nOur training 
 is targeted towards people who work with management\, development\, facili
 tation\, processes\, and/or consulting.  \n\nProgram:\nThree days of ver
 y diversified content concerning theory\, research\, hands-on and tailorma
 de learning\, group work\, and reflection. It builds upon the obtained kno
 wledge and skills from the Online Micro Certification.\n\nA welcome letter
  including the complete program will be sent to you prior to the training.
  \n\nInstructors:\nMicael Buckle from Inthrface\nMicael has worked with t
 he LSP methodology since 2003 and is certified by LEGO®.\n\nMicael has ex
 perience with more than 1000 workshops using the LSP globally and in vario
 us contexts and settings for strategy\, management\, team\, personal and o
 rganizational development.\n\nMicael has worked closely with Hotel LEGOLAN
 D® since 2003 to create unique LEGO® experiences in Billund (Denmark)\, 
 Windsor (UK)\, Florida (USA)\, and California (USA).\n\nMarc Sonnaert fro
 m Inthrface\nMarc is an associated trainer of Inthrface. He was certified 
 in the LEGO® SERIOUS PLAY® methodology at Hotel LEGOLAND® in Billund 
 in 2015\, and he has worked extensively with the method ever since.\n\nMar
 c has\, furthermore\, worked closely with Micael Buckle for more than two 
 years – training new facilitators.\n\nLanguage:\nThe training will be f
 acilitated in English.
ATTACH;FMTTYPE=image/jpeg:https://inthrface.com/wp-content/uploads/2020/07
 /Mange-hænder-med-LEGO.jpg
CATEGORIES:Enhanced training (3 days)
LOCATION:Hotel LEGOLAND® Billund\, Denmark\, Åstvej 10\, Billund\, Denmar
 k\, 7190\, Denmark
GEO:55.733019;9.129184
X-APPLE-STRUCTURED-LOCATION;VALUE=URI;X-ADDRESS=Åstvej 10\, Billund\, Denm
 ark\, 7190\, Denmark;X-APPLE-RADIUS=100;X-TITLE=Hotel LEGOLAND® Billund\,
  Denmark:geo:55.733019,9.129184
END:VEVENT
BEGIN:VTIMEZONE
TZID:Europe/Copenhagen
X-LIC-LOCATION:Europe/Copenhagen
BEGIN:DAYLIGHT
DTSTART:20240331T030000
TZOFFSETFROM:+0100
TZOFFSETTO:+0200
TZNAME:CEST
END:DAYLIGHT
END:VTIMEZONE
END:VCALENDAR