BEGIN:VCALENDAR
VERSION:2.0
PRODID:-//wp-events-plugin.com//7.2.3.1//EN
TZID:Europe/Copenhagen
X-WR-TIMEZONE:Europe/Copenhagen
BEGIN:VEVENT
UID:145@inthrface.com
DTSTART;TZID=Europe/Copenhagen;VALUE=DATE:20220404
DTEND;TZID=Europe/Copenhagen;VALUE=DATE:20220408
DTSTAMP:20260129T214854Z
URL:https://inthrface.com/events/facilitator-training-in-the-lego-serious-
 play-method-california-3/
SUMMARY:Facilitator Training in the LEGO® SERIOUS PLAY® method\, Californ
 ia
DESCRIPTION:Join the only facilitator training in the LEGO® SERIOUS PLAY
 ® method that is endorsed by one of the co-inventors of LEGO® SERIOUS PL
 AY®\n”The comprehensive course material and innovative pedagogy used in
  Inthrface’s facilitator training align with\, and positively extend th
 e original LEGO® SERIOUS PLAY® concept.”\n\n 	Professor Johan S. Roos\
 nCo-author of the Serious Play concept\, co-inventor of LEGO® SERIOUS PLA
 Y®\, co-developer of the original LEGO® SERIOUS PLAY® manuals\, and co-
 founder of Imagination Lab Foundation.\n\n\nWhat’s included?:\n\n 	Exten
 sive training and hands-on experience with the LEGO® SERIOUS PLAY® meth
 odology\, brought to you by world-class facilitators with experience from 
 more than 1000 LEGO® SERIOUS PLAY® workshops.\n 	An all-inclusive stay
  at LEGOLAND® Resort.\n 	A tour of the theme park LEGOLAND®.\n 	An exten
 sive and exclusive facilitator manual that covers both LEGO® SERIOUS PLAY
 ® exercises and theory.\n 	An invitation to join our annual international
  LEGO® SERIOUS PLAY® Conference and Advanced Training at Hotel LEGOLAND
 ® in Billund.\n 	Access to our worldwide network of certified facilitator
 s.\n 	An inspiring newsletter 6 times a year\, which covers different LEGO
 ® SERIOUS PLAY® related initiatives and activities.\n 	A diploma and an 
 exclusive testimonial by one of the co-inventors of LEGO® SERIOUS PLAY® 
 that underline the quality of your training.\n 	Assistance in framing your
  first LEGO® SERIOUS PLAY® workshop after the training.\n 	Membership of
  our international online network of facilitators in the LEGO® SERIOUS PL
 AY® method called Brickmind.\n\n&nbsp\;\nAfter your training in the LEGO
 ® SERIOUS PLAY® methodology you can:\n\n 	Develop\, change and strength
 en your organization and the teamwork within your company.\n 	Optimize pro
 cesses and performances within your organization or company.\n 	Develop an
 d implement dynamic strategies in your organization or company.\n 	Engage
  in and facilitate personal development processes including coaching\, men
 toring\, etc.\n 	And much more.\n\n&nbsp\;\nTarget group:\nEveryone with a
  management-\, facilitator-\, process- or consultant role.\n\nThe output o
 f the training:\nThe LEGO® SERIOUS PLAY® method is all about challengin
 g and processing tasks and challenges “real time.” It is a research-ba
 sed method that draws on extensive research from the following areas: Busi
 ness Development\, Organizational Development\, and Learning.\n\nThe purpo
 se of the training is to give the participant the essential knowledge\, co
 nfidence\, experience\, and commitment necessary to prepare\, design and f
 acilitate workshops using the LEGO® SERIOUS PLAY® method – with maximu
 m involvement and effect.\n\nThe training will prepare you to go home and 
 use the method\, as well as develop targeted workshops using the method.\n
 \nProgram:\nIt will be four very diverse and intense days focusing on theo
 ry\, hands-on experience\, tailored learning\, group work\, and reflection
 .\n\nThe facilitator training program is composed of the following sub-ele
 ments:\n\n 	History\, theory\, and research in relation to the LEGO® SERI
 OUS PLAY® method.\n 	Skills Building: Learning all the basic elements 
 in LEGO® SERIOUS PLAY® method: Construction\, metaphors\, story making\,
  and fantasy/imagination.\n 	Real Time Strategy (RTS): You will get skills
  on how to use LEGO® SERIOUS PLAY® method regarding strategy- and busine
 ss development.\n 	Real Time Identity (RTI): You will get skills on how t
 o use LEGO® SERIOUS PLAY® method regarding the individual\, team\, and o
 rganizational development.\n 	How to make tailormade workshops using the L
 EGO® SERIOUS PLAY® method.\n 	Introduction to the Trademark Guidelines c
 oncerning LEGO® SERIOUS PLAY® method.\n\n\nInstructor:\nMicael Buckle fr
 om Inthrface\nMicael has worked with the LEGO® SERIOUS PLAY® method sinc
 e 2003\, and he is certified by LEGO®.\n\nMicael has experience with more
  than 1000 workshops using the LEGO® SERIOUS PLAY® method globally. Work
 shops concerning strategy\, management\, team\, and organizational develop
 ment.\n\nMicael has worked closely with Hotel LEGOLAND® since 2003 to cre
 ate unique experiences using the LEGO® SERIOUS PLAY® method in Billund (
 Denmark)\, Windsor (UK)\, Florida (USA)\, and California (USA).\n\nMarc So
 nnaert from Inthrface\nMarc is an associated trainer of Inthrface. He was
  certified in the LEGO® SERIOUS PLAY® methodology at Hotel LEGOLAND® 
 in Billund in 2015\, and he has worked extensively with the method ever si
 nce.\n\nMarc has\, furthermore\, worked closely with Micael Buckle for mor
 e than two years – training new facilitators.\n\nLanguage:\nThe trainin
 g will be facilitated in English.
ATTACH;FMTTYPE=image/jpeg:https://inthrface.com/wp-content/uploads/2018/08
 /daniel-cheung-554579-unsplash.jpg
CATEGORIES:Complete Certification
LOCATION:\, \, 
GEO:33.126700;-117.311100
X-APPLE-STRUCTURED-LOCATION;VALUE=URI;X-ADDRESS=\, ;X-APPLE-RADIUS=100;X-TI
 TLE=:geo:33.126700,-117.311100
END:VEVENT
BEGIN:VTIMEZONE
TZID:Europe/Copenhagen
X-LIC-LOCATION:Europe/Copenhagen
BEGIN:DAYLIGHT
DTSTART:20220327T030000
TZOFFSETFROM:+0100
TZOFFSETTO:+0200
TZNAME:CEST
END:DAYLIGHT
END:VTIMEZONE
END:VCALENDAR