BEGIN:VCALENDAR
VERSION:2.0
PRODID:-//wp-events-plugin.com//7.2.3.1//EN
TZID:Europe/Copenhagen
X-WR-TIMEZONE:Europe/Copenhagen
BEGIN:VEVENT
UID:271@inthrface.com
DTSTART;TZID=Europe/Copenhagen;VALUE=DATE:20241202
DTEND;TZID=Europe/Copenhagen;VALUE=DATE:20241206
DTSTAMP:20260129T215518Z
URL:https://inthrface.com/events/facilitator-training-in-the-lego-serious-
 play-method-california-usa-2/
SUMMARY:Facilitator Training in the LEGO® SERIOUS PLAY® method\, LEGOLAND
 ® Resort\, California\, USA
DESCRIPTION:\nJoin the only facilitator training in the LEGO® SERIOUS PLA
 Y® method that is endorsed by one of the founding fathers of LEGO® SERIO
 US PLAY®\n”The comprehensive course material and innovative pedagogy us
 ed in Inthrface’s facilitator training align with\, and positively exte
 nd the original LEGO® SERIOUS PLAY® concept.”\n\n 	Professor Johan S. 
 Roos\nCo-author of the Serious Play concept\, co-inventor of LEGO® SERIO
 US PLAY®\, co-developer of the original LEGO® SERIOUS PLAY® manuals\,
  and co-founder of Imagination Lab Foundation.\n\nWhat’s included?:\n\n 
 	High quality and hands-on training in the LEGO® SERIOUS PLAY® method.\n
  	Manual and experiences in facilitating the LEGO® SERIOUS PLAY® method.
 \n 	All inclusive stay at LEGOLAND® Resort\, California\, USA.\n 	Access 
 to LEGOLAND®\n 	Online “after training” support for preparing the fac
 ilitator’s first workshop.\n 	Membership of our international online net
 work of facilitators in the LEGO® SERIOUS PLAY® method called Brickmind.
 \n\n\nAfter your training in the LEGO® SERIOUS PLAY® methodology you c
 an:\n\n 	Develop\, change and strengthen your organization and the teamwor
 k within your company.\n 	Optimize processes and performance within the or
 ganization.\n 	Develop and implement dynamic strategies the company.\n\n\
 nTarget group:\nEveryone with a management-\, facilitator-\, process- or c
 onsultant role.\n\nThe output of the training:\nThe LEGO® SERIOUS PLAY®
  method is all about challenging and processing tasks and challenges “re
 al time.” It is a research-based method that draws on extensive research
  from the following areas: Business Development\, Organizational Developme
 nt and Learning.\n\nThe purpose of the training is to give the participant
  the essential knowledge\, confidence\, experience and commitment necessar
 y to prepare\, design and facilitate workshops using the LEGO® SERIOUS PL
 AY® method – with maximum involvement and effect.\n\nThe training will 
 prepare you to go home and use the method\, as well as develop targeted wo
 rkshops using the method.\n\nProgramme:\nIt will be four very diversified 
 days focusing on theory\, hands-on experience\, tailored learning\, group 
 work\, and reflection.\n\nThe facilitator training programme is composed 
 of the following sub-elements:\n\n 	History\, theory and research in relat
 ion to the LEGO® SERIOUS PLAY® method.\n 	Skills Building: Learning all
  the basic elements in LEGO® SERIOUS PLAY® method: Construction\, meta
 phors\, story making and fantasy/imagination.\n 	Real Time Strategy (RTS):
  You will get skills on how to use LEGO® SERIOUS PLAY® method regarding 
 strategy- and business development.\n 	Real Time Identity (RTI): You will
  get skills on how to use LEGO® SERIOUS PLAY® method regarding individua
 l\, team and organizational development.\n 	How to make tailormade worksho
 ps using the LEGO® SERIOUS PLAY® method.\n 	Introduction to the Trademar
 k Guidelines concerning LEGO® SERIOUS PLAY® method.\n\n\nInstructor:\nMa
 rc Sonnaert from Inthrface\nMarc is an associated trainer of Inthrface. H
 e was certified in the LEGO® SERIOUS PLAY® methodology at Hotel LEGOLA
 ND® in Billund in 2015\, an he has worked extensively with the method ev
 er since.\n\nMarc has\, furthermore\, worked closely with Micael Buckle\, 
 CEO of Inthrface\, more than two years – training new facilitators.\nLan
 guage:\nThe training will be facilitated in English.\n\n&nbsp\;\nRead mor
 e here!
ATTACH;FMTTYPE=image/jpeg:https://inthrface.com/wp-content/uploads/2018/08
 /daniel-cheung-554579-unsplash.jpg
CATEGORIES:Complete Certification
LOCATION:\, \, 
GEO:33.126700;-117.311100
X-APPLE-STRUCTURED-LOCATION;VALUE=URI;X-ADDRESS=\, ;X-APPLE-RADIUS=100;X-TI
 TLE=:geo:33.126700,-117.311100
END:VEVENT
BEGIN:VTIMEZONE
TZID:Europe/Copenhagen
X-LIC-LOCATION:Europe/Copenhagen
BEGIN:STANDARD
DTSTART:20241027T020000
TZOFFSETFROM:+0200
TZOFFSETTO:+0100
TZNAME:CET
END:STANDARD
END:VTIMEZONE
END:VCALENDAR