BEGIN:VCALENDAR
VERSION:2.0
PRODID:-//wp-events-plugin.com//7.2.3.1//EN
TZID:Europe/Copenhagen
X-WR-TIMEZONE:Europe/Copenhagen
BEGIN:VEVENT
UID:141@inthrface.com
DTSTART;TZID=Europe/Copenhagen;VALUE=DATE:20220516
DTEND;TZID=Europe/Copenhagen;VALUE=DATE:20220520
DTSTAMP:20260129T204714Z
URL:https://inthrface.com/events/facilitator-training-in-the-lego-serious-
 play-method-florida/
SUMMARY:Facilitator Training in the LEGO® SERIOUS PLAY® method\, Florida
DESCRIPTION:Join the only facilitator training in the LEGO® SERIOUS PLAY
 ® method that is endorsed by one of the founding fathers of LEGO® SERIOU
 S PLAY®\n”The comprehensive course material and innovative pedagogy use
 d in Inthrface’s facilitator training align with\, and positively exten
 d the original LEGO® SERIOUS PLAY® concept.”\n\n 	Professor Johan S. R
 oos\nCo-author of the Serious Play concept\, co-inventor of LEGO® SERIOU
 S PLAY®\, co-developer of the original LEGO® SERIOUS PLAY® manuals\, 
 and co-founder of Imagination Lab Foundation.\n\n\nWhat’s included?:\n\n
  	High-quality and hands-on training in the LEGO® SERIOUS PLAY® method.\
 n 	Manual and experiences in facilitating the LEGO® SERIOUS PLAY® method
 .\n 	An all-inclusive stay at Hotel LEGOLAND®.\n 	Online “after trainin
 g” support for preparing the facilitator’s first workshop.\n 	Membersh
 ip of our international online network of facilitators in the LEGO® SERIO
 US PLAY® method called Brickmind.\n 	Tour of the LEGOLAND® theme park.\n
 \n\nAfter your training in the LEGO® SERIOUS PLAY® methodology you can
 :\n\n 	Develop\, change and strengthen your organization and the teamwork 
 within your company.\n 	Optimize processes and performance within the orga
 nization.\n 	Develop and implement dynamic strategies for the company.\n\n
 \nTarget group:\nEveryone with a management-\, facilitator-\, process- or 
 consultant role.\n\nThe output of the training:\nThe LEGO® SERIOUS PLAY
 ® method is all about challenging and processing tasks and challenges “
 real time.” It is a research-based method that draws on extensive resear
 ch from the following areas: Business Development\, Organizational Develop
 ment\, and Learning.\n\nThe purpose of the training is to give the partici
 pant the essential knowledge\, confidence\, experience\, and commitment ne
 cessary to prepare\, design\, and facilitate workshops using the LEGO® SE
 RIOUS PLAY® method – with maximum involvement and effect.\n\nThe traini
 ng will prepare you to go home and use the method\, as well as develop tar
 geted workshops using the method.\n\nProgram:\nIt will be four very divers
 ified days focusing on theory\, hands-on experience\, tailored learning\, 
 group work\, and reflection.\n\nThe facilitator training program is compos
 ed of the following sub-elements:\n\n 	History\, theory\, and research in 
 relation to the LEGO® SERIOUS PLAY® method.\n 	Skills Building: Learnin
 g all the basic elements in LEGO® SERIOUS PLAY® method: Construction\,
  metaphors\, story-making\, and fantasy/imagination.\n 	Real Time Strategy
  (RTS): You will get skills on how to use LEGO® SERIOUS PLAY® method reg
 arding strategy- and business development.\n 	Real Time Identity (RTI): Y
 ou will get skills on how to use LEGO® SERIOUS PLAY® method regarding th
 e individual\, team\, and organizational development.\n 	How to make tailo
 rmade workshops using the LEGO® SERIOUS PLAY® method.\n 	Introduction to
  the Trademark Guidelines concerning LEGO® SERIOUS PLAY® method.\n\n\nIn
 structors:\nMicael Buckle from Inthrface\nMicael has worked with the LEGO
 ® SERIOUS PLAY® method since 2003\, and he is certified by LEGO®.\n\nMi
 cael has experience with more than 850 workshops using the LEGO® SERIOUS 
 PLAY® method globally. Workshops concerning strategy\, management\, team\
 , and organizational development.\n\nMicael has worked closely with Hotel 
 LEGOLAND® since 2003 to create unique experiences using the LEGO® SERIOU
 S PLAY® method in Billund (Denmark)\, Windsor (UK)\, Florida (USA)\, and 
 California (USA).\n\nMarc Sonnaert from Inthrface\nMarc is an associated 
 trainer of Inthrface. He was certified in the LEGO® SERIOUS PLAY® meth
 odology at Hotel LEGOLAND® in Billund in 2015\, and he has worked extensi
 vely with the method ever since.\n\nMarc has\, furthermore\, worked closel
 y with Micael Buckle for more than two years – training new facilitators
 .\n\nLanguage:\nThe training will be facilitated in English.
ATTACH;FMTTYPE=image/jpeg:https://inthrface.com/wp-content/uploads/2018/08
 /daniel-cheung-554579-unsplash.jpg
CATEGORIES:Complete Certification
LOCATION:\, \, 
GEO:27.989200;-81.689900
X-APPLE-STRUCTURED-LOCATION;VALUE=URI;X-ADDRESS=\, ;X-APPLE-RADIUS=100;X-TI
 TLE=:geo:27.989200,-81.689900
END:VEVENT
BEGIN:VTIMEZONE
TZID:Europe/Copenhagen
X-LIC-LOCATION:Europe/Copenhagen
BEGIN:DAYLIGHT
DTSTART:20220327T030000
TZOFFSETFROM:+0100
TZOFFSETTO:+0200
TZNAME:CEST
END:DAYLIGHT
END:VTIMEZONE
END:VCALENDAR