BEGIN:VCALENDAR
VERSION:2.0
PRODID:-//wp-events-plugin.com//7.2.3.1//EN
TZID:Europe/Copenhagen
X-WR-TIMEZONE:Europe/Copenhagen
BEGIN:VEVENT
UID:24@inthrface.com
DTSTART;TZID=Europe/Copenhagen;VALUE=DATE:20201123
DTEND;TZID=Europe/Copenhagen;VALUE=DATE:20201127
DTSTAMP:20200908T062856Z
URL:https://inthrface.com/events/facilitator-training-in-the-lego-serious-
 play-methodology-at-ucll-belgium/
SUMMARY:FACILITATOR TRAINING IN THE LEGO® SERIOUS PLAY® METHODOLOGY at UC
 LL\, Belgium
DESCRIPTION:WHAT’S INCLUDED?:\n\n 	High quality and hands-on training in
  the LEGO® SERIOUS PLAY® methodology.\n 	Manual and experiences in f
 acilitating the LEGO® SERIOUS PLAY® methodology.\n 	Online “after t
 raining” support for preparing the facilitator’s first workshop.\n 	On
 line community network with other facilitators using the LEGO® SERIOUS P
 LAY® methodology.\n\n\nAFTER YOUR TRAINING IN THE LEGO® SERIOUS PLAY®
  METHODOLOGY YOU CAN:\n\n 	Develop\, change and strengthen your organizat
 ion and the teamwork within your company.\n 	Optimize processes and perfor
 mances within your organization or company.\n 	Develop and implement dynam
 ic strategies in your organization or company.\n 	Engage in and facilitat
 e personal development processes including coaching\, mentoring\, etc.\n 	
 And much more.\n\n\nTARGET GROUP:\nOur training is targeted towards people
  who work with management\, development\, facilitation\, processes and/or 
 consulting.\n\nTHE OUTPUT OF THE TRAINING:\nThe LEGO® SERIOUS PLAY® m
 ethodology is all about challenging and processing tasks and challenges
  “real time”. It is a research-based methodology that draws on exten
 sive research from the following areas of: Business Development\, Organiza
 tional Development and Learning.\n\nThe purpose of the training is to give
  the participant the essential knowledge\, confidence\, experience and com
 mitment\, necessary to prepare and facilitate workshops using the LEGO® 
 SERIOUS PLAY® methodology – with maximum involvement and effect.\n\nTh
 e training will prepare you to go home and use the methodology\, as wel
 l as develop targeted workshops using the methodology.\n\nPROGRAMME:\n4 da
 ys very diversified course with theory\, hands-on and tailored learning\, 
 group work\, and reflection.\n\nThe facilitator training programme is com
 posed of the following sub-elements:\n\n 	History\, theory and research in
  relation to the LEGO® SERIOUS PLAY® methodology.\n 	Skills Building:
  Learning all the basic elements in LEGO® SERIOUS PLAY® methodology
 : Construction\, metaphors\, story making and fantasy/imagination.\n 	Real
  Time Strategy (RTS): You will get skills on how to use LEGO® SERIOUS 
 PLAY® methodology regarding strategy- and business development.\n 	Real
  Time Identity (RTI): You will get skills on how to use LEGO® SERIOUS 
 PLAY® methodology regarding individual\, team and organizational develo
 pment.\n 	How to make tailormade workshops using the LEGO® SERIOUS PLA
 Y® methodology.\n 	Introduction to the Trademark Guidelines concerning L
 EGO® SERIOUS PLAY® methodology.\n\nRead more about it here!\n\nINSTRUC
 TORS:\nMicael Buckle \n\n 	Micael has worked with the LEGO® SERIOUS PLAY
 ® methodology since 2003 and is certified by LEGO®.\n 	Micael has exper
 ience with more than 850 workshops using the LEGO® SERIOUS PLAY® metho
 dology globally. Workshops concerning strategy\, management\, team and org
 anisational development.\n\nMarc Sonnaert\n\n 	Associated LEGO® SERIOUS P
 LAY® Trainer of Inthrface\n 	Marc was certified in the LEGO® SERIOUS PLA
 Y® methodology at Hotel LEGOLAND® Billund in 2015.\n 	External facilitat
 or in the LEGO® SERIOUSPLAY® methodology at UC Leuven Limburg.\n\n\nLANG
 UAGE:\nThe training will be facilitated in English.
ATTACH;FMTTYPE=image/jpeg:https://inthrface.com/wp-content/uploads/2018/08
 /daniel-cheung-554579-unsplash.jpg
CATEGORIES:Complete Certification
LOCATION:UC Leuven-Limburg\, Geldenaaksebaan 335\, 3001 Leuven\, Belgien\, 
 Heverlee\, 3001 \, Belgium
GEO:50.847347;4.725752
X-APPLE-STRUCTURED-LOCATION;VALUE=URI;X-ADDRESS=Geldenaaksebaan 335\, 3001 
 Leuven\, Belgien\, Heverlee\, 3001 \, Belgium;X-APPLE-RADIUS=100;X-TITLE=U
 C Leuven-Limburg:geo:50.847347,4.725752
END:VEVENT
BEGIN:VTIMEZONE
TZID:Europe/Copenhagen
X-LIC-LOCATION:Europe/Copenhagen
BEGIN:STANDARD
DTSTART:20201025T020000
TZOFFSETFROM:+0200
TZOFFSETTO:+0100
TZNAME:CET
END:STANDARD
END:VTIMEZONE
END:VCALENDAR