BEGIN:VCALENDAR
VERSION:2.0
PRODID:-//wp-events-plugin.com//7.2.3.1//EN
TZID:Europe/Copenhagen
X-WR-TIMEZONE:Europe/Copenhagen
BEGIN:VEVENT
UID:277@inthrface.com
DTSTART;TZID=Europe/Copenhagen;VALUE=DATE:20240930
DTEND;TZID=Europe/Copenhagen;VALUE=DATE:20241005
DTSTAMP:20240417T135509Z
URL:https://inthrface.com/events/facilitator-training-lego-serious-play-re
 al-time-change-and-conference/
SUMMARY:Facilitator Training - LEGO® SERIOUS PLAY® Real Time Change® and
  LSP Conference
DESCRIPTION:\nIs it time for a change? Join the Real Time Change® Certific
 ation during our annual International LSP Conference and Advanced Training
 s this Autumn!\nReal Time Change® is designed to help groups strike the e
 ssential balances every organization must create to initiate\, plan and ex
 ecute change in their unique internal and external eco-systems. It is base
 d on proven theories about human development\, sensemaking\, crisis manage
 ment\, and practical wisdom.\n\nReal Time Change® incorporates a dynamic 
 set of research-based exercises that cultivate drivers of readiness for ch
 ange among groups.\n\nAt this event\, you will attend the Real Time Change
 ® facilitator training on September 30th - October 1st. On October 2nd - 
 3rd\, you will participate at the annual International LEGO® SERIOUS PLAY
 ® Conference. On October 4th - 5th\, you will complete the last two days 
 of your certification.\n\nRead more about the annual International LSP Con
 ference here: Read more about the LSP Conference here!\n\nPrice for 4-days
  of extensive Real Time Change® facilitator training and 2-days attendanc
 e at the LSP Conference is: DKK 29.975 (excl. Danish VAT).\n\nEarly Bird D
 iscounts:\nRegister before May 15th and save 10% on your registration!\nRe
 gister before June 30th and save 5% on your registration!\n\nRegister for 
 this facilitator training and conference via this link: SIGN UP NOW (choos
 e option M)\nWho can join this Real Time Change® certification?:\nThe cer
 tification is open to all previously trained facilitators in the original 
 LEGO® SERIOUS PLAY® method\, regardless of where they have been trained.
 \n\nYour output from the Real Time Change® training:\nReal Time Change® 
 will help you answer key questions\, and enable you to help your organizat
 ion\, company\, clients\, teammates\, etc. answer them as well:\n\n 	How r
 eady are you and your team for new change initiatives?\n 	How resilient to
  change is your ecosystem\, today and tomorrow?\n 	Are we focusing on the 
 right things – are we striking the right balances?\n 	What future trends
  are shaping intended changes?\n 	What needs to be different? What needs t
 o be preserved?\n 	What can make or break the change initiative?\n\n\nWhat
 ’s included in the certification?:\n\n 	High quality and hands-on traini
 ng in LEGO® SERIOUS PLAY® - Real Time Change® - brought to you by world
 -class facilitators.\n 	An extensive and exclusive facilitator manual that
  covers both exercises and theory.\n 	An all-inclusive stay at Hotel LEGOL
 AND®.\n 	An optional trip to LEGOLAND® or LEGO® House after the trainin
 g.\n 	An exclusive diploma.\n\n\nLanguage:\nThe training will be facilita
 ted in English.\n\nFacilitators:\nMicael Buckle from Inthrface\nMicael has
  worked with the LEGO® SERIOUS PLAY® method since 2003\, and he is certi
 fied by LEGO®.\n\nMicael has experience with more than 850 workshops usin
 g the LEGO® SERIOUS PLAY® method globally. Workshops concerning strategy
 \, management\, team\, and organizational development.\n\nMicael has worke
 d closely with Hotel LEGOLAND® since 2003 to create unique experiences us
 ing the LEGO® SERIOUS PLAY® method in Billund (Denmark)\, Windsor (UK)\,
  Florida (USA)\, and California (USA).\n\n&nbsp\;\n\nInthrface exclusively
  offers training and certification in Real Time Change® to facilitators q
 ualified in the original LEGO® SERIOUS PLAY® method.\n\nPrice for 4-days
  of extensive Real Time Change® facilitator training and 2-days attendanc
 e at the LSP Conference is: DKK 29.975 (excl. Danish VAT).\n\nEarly Bird D
 iscounts:\nRegister before May 15th and save 10% on your registration!\nRe
 gister before June 30th and save 5% on your registration!\n\nRegister for 
 this facilitator training and conference via this link: SIGN UP NOW (choos
 e option M)\nRead our LSP Conference brochure here!\nRead our Real Time C
 hange® brochure here!
ATTACH;FMTTYPE=image/jpeg:https://inthrface.com/wp-content/uploads/2018/08
 /daniel-cheung-554579-unsplash.jpg
CATEGORIES:LSP 2.0
LOCATION:Hotel LEGOLAND® Billund\, Denmark\, Åstvej 10\, Billund\, Denmar
 k\, 7190\, Denmark
GEO:55.733019;9.129184
X-APPLE-STRUCTURED-LOCATION;VALUE=URI;X-ADDRESS=Åstvej 10\, Billund\, Denm
 ark\, 7190\, Denmark;X-APPLE-RADIUS=100;X-TITLE=Hotel LEGOLAND® Billund\,
  Denmark:geo:55.733019,9.129184
END:VEVENT
BEGIN:VTIMEZONE
TZID:Europe/Copenhagen
X-LIC-LOCATION:Europe/Copenhagen
BEGIN:DAYLIGHT
DTSTART:20240331T030000
TZOFFSETFROM:+0100
TZOFFSETTO:+0200
TZNAME:CEST
END:DAYLIGHT
END:VTIMEZONE
END:VCALENDAR