BEGIN:VCALENDAR
VERSION:2.0
PRODID:-//wp-events-plugin.com//7.2.3.1//EN
TZID:Europe/Copenhagen
X-WR-TIMEZONE:Europe/Copenhagen
BEGIN:VEVENT
UID:209@inthrface.com
DTSTART;TZID=Europe/Copenhagen:20230314T100000
DTEND;TZID=Europe/Copenhagen:20230314T110000
DTSTAMP:20260126T221328Z
URL:https://inthrface.com/events/lego-serious-play-online-webinar-32/
SUMMARY:LEGO® SERIOUS PLAY® ONLINE WEBINAR
DESCRIPTION:GET INSPIRED BY LEGO® SERIOUS PLAY®\nOur free webinar is des
 igned for you to explore LSP\, get introduced to the different ways in whi
 ch the method is used and learn about your options to use the method yours
 elf in your daily professional activities:\n\n 	Introduction to the LEGO®
  SERIOUS PLAY® methodology.​\n 	Some inspiring exercises.​\n 	Real 
 business cases\, examples of the different settings in which LSP is used 
 in companies\, organizations and high education institutes\, both face-to-
 face and online.​\n 	The different options for you to start using the LS
 P methodology in your organization or in your business.​\n 	Q&amp\;A se
 ssion.​\n 	Follow up mail with an article on the origin of LSP and detai
 led materials about workshops and the different courses.\n\nPRACTICALITIE
 S:\nTarget group:\nIn general\, our webinar is aimed at anyone who wants t
 o look beyond the traditional regarding organisational challenges\, broad
 ly defined.​\n\nMore specific\, people working in or with management\, d
 evelopment\, education\, facilitation and consulting.\nDuration and time 
 schedule:\n1 hour webinar.\n\nThe webinar will run in the time period 10.0
 0 – 11.00 AM (CET.)\nLocation:\nThe webinar will be conducted online.\n\
 nShortly before the webinar you will receive a invitation to the webinar w
 ith a link to Zoom.\nLanguage:\nThe webinar will be facilitated in English
 .\nFacilitators:\nMarc Sonnaert and Cecilie Reinholt Petersen from Inthrfa
 ce.
ATTACH;FMTTYPE=image/jpeg:https://inthrface.com/wp-content/uploads/2018/08
 /daniel-cheung-554579-unsplash.jpg
CATEGORIES:WEBINAR
LOCATION:Online Events\, Online\, Details will be sent\, Denmark
GEO:55.603517;12.660114
X-APPLE-STRUCTURED-LOCATION;VALUE=URI;X-ADDRESS=Online\, Details will be se
 nt\, Denmark;X-APPLE-RADIUS=100;X-TITLE=Online Events:geo:55.603517,12.660
 114
END:VEVENT
BEGIN:VTIMEZONE
TZID:Europe/Copenhagen
X-LIC-LOCATION:Europe/Copenhagen
BEGIN:STANDARD
DTSTART:20221030T020000
TZOFFSETFROM:+0200
TZOFFSETTO:+0100
TZNAME:CET
END:STANDARD
END:VTIMEZONE
END:VCALENDAR